BEGIN:VCALENDAR
VERSION:2.0
PRODID:-//pretix//pretix.eu//
BEGIN:VTIMEZONE
TZID:Europe/London
BEGIN:STANDARD
DTSTART:20001029T030000
RRULE:FREQ=YEARLY;BYDAY=-1SU;BYMONTH=10
TZNAME:GMT
TZOFFSETFROM:+0100
TZOFFSETTO:+0000
END:STANDARD
BEGIN:DAYLIGHT
DTSTART:20000326T020000
RRULE:FREQ=YEARLY;BYDAY=-1SU;BYMONTH=3
TZNAME:BST
TZOFFSETFROM:+0000
TZOFFSETTO:+0100
END:DAYLIGHT
END:VTIMEZONE
BEGIN:VEVENT
UID:pretix-forroacademy-spring2025-0@tickets.forroacademy.co.uk
DTSTART;TZID=Europe/London:20250410T190000
DTEND;TZID=Europe/London:20250413T235900
DESCRIPTION:Tickets: https://tickets.forroacademy.co.uk/spring2025/\nOrgani
 zer: Forró Academy
DTSTAMP:20260422T052332Z
SUMMARY:London Forró Weekend | Spring Edition 2025
END:VEVENT
END:VCALENDAR
