BEGIN:VCALENDAR
VERSION:2.0
PRODID:-//pretix//pretix.eu//
BEGIN:VTIMEZONE
TZID:Europe/London
BEGIN:STANDARD
DTSTART:20001029T030000
RRULE:FREQ=YEARLY;BYDAY=-1SU;BYMONTH=10
TZNAME:GMT
TZOFFSETFROM:+0100
TZOFFSETTO:+0000
END:STANDARD
BEGIN:DAYLIGHT
DTSTART:20000326T020000
RRULE:FREQ=YEARLY;BYDAY=-1SU;BYMONTH=3
TZNAME:BST
TZOFFSETFROM:+0000
TZOFFSETTO:+0100
END:DAYLIGHT
END:VTIMEZONE
BEGIN:VEVENT
UID:pretix-forroacademy-forro-fridays-4237825@tickets.forroacademy.co.uk
DTSTART;TZID=Europe/London:20240927T203000
DTEND;TZID=Europe/London:20240927T213000
DESCRIPTION:Tickets: https://tickets.forroacademy.co.uk/forro-fridays/42378
 25/\nOrganizer: Forró Academy
DTSTAMP:20260421T225943Z
LOCATION:St Mary’s Neighbourhood Centre\, Upper Street\, London N1 2TX
SUMMARY:Forró Friday - 27 September 2024 (London Forró Weekend Special)
END:VEVENT
END:VCALENDAR
