BEGIN:VCALENDAR
VERSION:2.0
PRODID:-//pretix//pretix.eu//
BEGIN:VTIMEZONE
TZID:Europe/London
BEGIN:STANDARD
DTSTART:20001029T030000
RRULE:FREQ=YEARLY;BYDAY=-1SU;BYMONTH=10
TZNAME:GMT
TZOFFSETFROM:+0100
TZOFFSETTO:+0000
END:STANDARD
BEGIN:DAYLIGHT
DTSTART:20000326T020000
RRULE:FREQ=YEARLY;BYDAY=-1SU;BYMONTH=3
TZNAME:BST
TZOFFSETFROM:+0000
TZOFFSETTO:+0100
END:DAYLIGHT
END:VTIMEZONE
BEGIN:VEVENT
UID:pretix-forroacademy-forro-fridays-4237818@tickets.forroacademy.co.uk
DTSTART;TZID=Europe/London:20240920T190000
DTEND;TZID=Europe/London:20240920T200000
DESCRIPTION:Tickets: https://tickets.forroacademy.co.uk/forro-fridays/42378
 18/\nOrganizer: Forró Academy
DTSTAMP:20260422T004006Z
LOCATION:St Mary’s Neighbourhood Centre\, Upper Street\, London N1 2TX
SUMMARY:Forró Friday - 20 September 2024
END:VEVENT
END:VCALENDAR
